BEGIN:VCALENDAR
VERSION:2.0
PRODID:-//Toros del Este//Calendario de Juegos//ES
BEGIN:VTIMEZONE
TZID:America/Santo_Domingo
BEGIN:STANDARD
DTSTART:19700101T000000
TZOFFSETFROM:-0400
TZOFFSETTO:-0400
TZNAME:AST
END:STANDARD
END:VTIMEZONE
BEGIN:VEVENT
UID:169e6f822a4ab5
DTSTAMP:20260421T040802Z
DTSTART;TZID=America/Santo_Domingo:20251015T193000
DTEND;TZID=America/Santo_Domingo:20251015T223000
SUMMARY:Toros Vs Estrellas
LOCATION:Estadio Tetelo Vargas, San Pedro de Macor&iacute;s
END:VEVENT
BEGIN:VEVENT
UID:269e6f822a4ac5
DTSTAMP:20260421T040802Z
DTSTART;TZID=America/Santo_Domingo:20251016T193000
DTEND;TZID=America/Santo_Domingo:20251016T223000
SUMMARY:Aguilas Vs Toros
LOCATION:Estadio Francisco A. Micheli, La Romana
END:VEVENT
BEGIN:VEVENT
UID:369e6f822a4ad0
DTSTAMP:20260421T040802Z
DTSTART;TZID=America/Santo_Domingo:20251017T193000
DTEND;TZID=America/Santo_Domingo:20251017T223000
SUMMARY:Toros Vs Aguilas
LOCATION:Estadio Cibao, Santiago de los Caballeros
END:VEVENT
BEGIN:VEVENT
UID:469e6f822a4ad7
DTSTAMP:20260421T040802Z
DTSTART;TZID=America/Santo_Domingo:20251018T193000
DTEND;TZID=America/Santo_Domingo:20251018T223000
SUMMARY:Estrellas Vs Toros
LOCATION:Estadio Francisco A. Micheli, La Romana
END:VEVENT
BEGIN:VEVENT
UID:569e6f822a4adf
DTSTAMP:20260421T040802Z
DTSTART;TZID=America/Santo_Domingo:20251019T160000
DTEND;TZID=America/Santo_Domingo:20251019T190000
SUMMARY:Toros Vs Escogido
LOCATION:Estadio Quisqueya, Santo Domingo
END:VEVENT
BEGIN:VEVENT
UID:669e6f822a4ae8
DTSTAMP:20260421T040802Z
DTSTART;TZID=America/Santo_Domingo:20251124T193000
DTEND;TZID=America/Santo_Domingo:20251124T223000
SUMMARY:Toros Vs Licey
LOCATION:Estadio Quisqueya, Santo Domingo
END:VEVENT
BEGIN:VEVENT
UID:769e6f822a4aef
DTSTAMP:20260421T040802Z
DTSTART;TZID=America/Santo_Domingo:20251121T160000
DTEND;TZID=America/Santo_Domingo:20251121T190000
SUMMARY:Licey Vs Toros
LOCATION:Estadio Francisco A. Micheli, La Romana
END:VEVENT
BEGIN:VEVENT
UID:869e6f822a4af7
DTSTAMP:20260421T040802Z
DTSTART;TZID=America/Santo_Domingo:20251216T160000
DTEND;TZID=America/Santo_Domingo:20251216T190000
SUMMARY:Toros Vs Gigantes
LOCATION:Estadio Julian Javier, San Francisco de Macoris
END:VEVENT
BEGIN:VEVENT
UID:969e6f822a4afe
DTSTAMP:20260421T040802Z
DTSTART;TZID=America/Santo_Domingo:20251204T193000
DTEND;TZID=America/Santo_Domingo:20251204T223000
SUMMARY:Gigantes Vs Toros
LOCATION:Estadio Francisco A. Micheli, La Romana
END:VEVENT
BEGIN:VEVENT
UID:1069e6f822a4b04
DTSTAMP:20260421T040802Z
DTSTART;TZID=America/Santo_Domingo:20251108T193000
DTEND;TZID=America/Santo_Domingo:20251108T223000
SUMMARY:Escogido Vs Toros
LOCATION:Estadio Francisco A. Micheli, La Romana
END:VEVENT
BEGIN:VEVENT
UID:1169e6f822a4b0b
DTSTAMP:20260421T040802Z
DTSTART;TZID=America/Santo_Domingo:20251028T193000
DTEND;TZID=America/Santo_Domingo:20251028T223000
SUMMARY:Licey Vs Toros
LOCATION:Estadio Francisco A. Micheli, La Romana
END:VEVENT
BEGIN:VEVENT
UID:1269e6f822a4b12
DTSTAMP:20260421T040802Z
DTSTART;TZID=America/Santo_Domingo:20251029T193000
DTEND;TZID=America/Santo_Domingo:20251029T223000
SUMMARY:Toros Vs Licey
LOCATION:Estadio Quisqueya, Santo Domingo
END:VEVENT
BEGIN:VEVENT
UID:1369e6f822a4b19
DTSTAMP:20260421T040802Z
DTSTART;TZID=America/Santo_Domingo:20251031T193000
DTEND;TZID=America/Santo_Domingo:20251031T223000
SUMMARY:Escogido Vs Toros
LOCATION:Estadio Francisco A. Micheli, La Romana
END:VEVENT
BEGIN:VEVENT
UID:1469e6f822a4b20
DTSTAMP:20260421T040802Z
DTSTART;TZID=America/Santo_Domingo:20251101T160000
DTEND;TZID=America/Santo_Domingo:20251101T190000
SUMMARY:Toros Vs Escogido
LOCATION:Estadio Quisqueya, Santo Domingo
END:VEVENT
BEGIN:VEVENT
UID:1569e6f822a4b27
DTSTAMP:20260421T040802Z
DTSTART;TZID=America/Santo_Domingo:20251102T170000
DTEND;TZID=America/Santo_Domingo:20251102T200000
SUMMARY:Toros Vs Estrellas
LOCATION:Estadio Tetelo Vargas, San Pedro de Macor&iacute;s
END:VEVENT
BEGIN:VEVENT
UID:1669e6f822a4b2d
DTSTAMP:20260421T040802Z
DTSTART;TZID=America/Santo_Domingo:20251104T193000
DTEND;TZID=America/Santo_Domingo:20251104T223000
SUMMARY:Gigantes Vs Toros
LOCATION:Estadio Francisco A. Micheli, La Romana
END:VEVENT
BEGIN:VEVENT
UID:1769e6f822a4b34
DTSTAMP:20260421T040802Z
DTSTART;TZID=America/Santo_Domingo:20251105T193000
DTEND;TZID=America/Santo_Domingo:20251105T223000
SUMMARY:Toros Vs Estrellas
LOCATION:Estadio Tetelo Vargas, San Pedro de Macor&iacute;s
END:VEVENT
BEGIN:VEVENT
UID:1869e6f822a4b3b
DTSTAMP:20260421T040802Z
DTSTART;TZID=America/Santo_Domingo:20251107T193000
DTEND;TZID=America/Santo_Domingo:20251107T223000
SUMMARY:Toros Vs Licey
LOCATION:Estadio Quisqueya, Santo Domingo
END:VEVENT
BEGIN:VEVENT
UID:1969e6f822a4b41
DTSTAMP:20260421T040802Z
DTSTART;TZID=America/Santo_Domingo:20251109T170000
DTEND;TZID=America/Santo_Domingo:20251109T200000
SUMMARY:Estrellas Vs Toros
LOCATION:Estadio Francisco A. Micheli, La Romana
END:VEVENT
BEGIN:VEVENT
UID:2069e6f822a4b47
DTSTAMP:20260421T040802Z
DTSTART;TZID=America/Santo_Domingo:20251110T160500
DTEND;TZID=America/Santo_Domingo:20251110T190500
SUMMARY:Toros Vs Escogido
LOCATION:Estadio Quisqueya, Santo Domingo
END:VEVENT
BEGIN:VEVENT
UID:2169e6f822a4b4e
DTSTAMP:20260421T040802Z
DTSTART;TZID=America/Santo_Domingo:20251111T193000
DTEND;TZID=America/Santo_Domingo:20251111T223000
SUMMARY:Estrellas Vs Toros
LOCATION:Estadio Francisco A. Micheli, La Romana
END:VEVENT
BEGIN:VEVENT
UID:2269e6f822a4b54
DTSTAMP:20260421T040802Z
DTSTART;TZID=America/Santo_Domingo:20251113T193000
DTEND;TZID=America/Santo_Domingo:20251113T223000
SUMMARY:Gigantes Vs Toros
LOCATION:Estadio Francisco A. Micheli, La Romana
END:VEVENT
BEGIN:VEVENT
UID:2369e6f822a4b5a
DTSTAMP:20260421T040802Z
DTSTART;TZID=America/Santo_Domingo:20251117T193000
DTEND;TZID=America/Santo_Domingo:20251117T223000
SUMMARY:Escogido Vs Toros
LOCATION:Estadio Francisco A. Micheli, La Romana
END:VEVENT
BEGIN:VEVENT
UID:2469e6f822a4b60
DTSTAMP:20260421T040802Z
DTSTART;TZID=America/Santo_Domingo:20251118T193000
DTEND;TZID=America/Santo_Domingo:20251118T223000
SUMMARY:Toros Vs Aguilas
LOCATION:Estadio Cibao, Santiago de los Caballeros
END:VEVENT
BEGIN:VEVENT
UID:2569e6f822a4b67
DTSTAMP:20260421T040802Z
DTSTART;TZID=America/Santo_Domingo:20251119T193000
DTEND;TZID=America/Santo_Domingo:20251119T223000
SUMMARY:Aguilas Vs Toros
LOCATION:Estadio Francisco A. Micheli, La Romana
END:VEVENT
BEGIN:VEVENT
UID:2669e6f822a4b6d
DTSTAMP:20260421T040802Z
DTSTART;TZID=America/Santo_Domingo:20251121T193000
DTEND;TZID=America/Santo_Domingo:20251121T223000
SUMMARY:Licey Vs Toros
LOCATION:Estadio Francisco A. Micheli, La Romana
END:VEVENT
BEGIN:VEVENT
UID:2769e6f822a4b74
DTSTAMP:20260421T040802Z
DTSTART;TZID=America/Santo_Domingo:20251122T193000
DTEND;TZID=America/Santo_Domingo:20251122T223000
SUMMARY:Escogido Vs Toros
LOCATION:Estadio Francisco A. Micheli, La Romana
END:VEVENT
BEGIN:VEVENT
UID:2869e6f822a4b7a
DTSTAMP:20260421T040802Z
DTSTART;TZID=America/Santo_Domingo:20251123T170000
DTEND;TZID=America/Santo_Domingo:20251123T200000
SUMMARY:Toros Vs Gigantes
LOCATION:Estadio Julian Javier, San Francisco de Macoris
END:VEVENT
BEGIN:VEVENT
UID:2969e6f822a4b80
DTSTAMP:20260421T040802Z
DTSTART;TZID=America/Santo_Domingo:20251125T191500
DTEND;TZID=America/Santo_Domingo:20251125T221500
SUMMARY:Toros Vs Escogido
LOCATION:Estadio Quisqueya, Santo Domingo
END:VEVENT
BEGIN:VEVENT
UID:3069e6f822a4b86
DTSTAMP:20260421T040802Z
DTSTART;TZID=America/Santo_Domingo:20251126T193000
DTEND;TZID=America/Santo_Domingo:20251126T223000
SUMMARY:Aguilas Vs Toros
LOCATION:Estadio Francisco A. Micheli, La Romana
END:VEVENT
BEGIN:VEVENT
UID:3169e6f822a4b8d
DTSTAMP:20260421T040802Z
DTSTART;TZID=America/Santo_Domingo:20251128T190500
DTEND;TZID=America/Santo_Domingo:20251128T220500
SUMMARY:Toros Vs Gigantes
LOCATION:Estadio Julian Javier, San Francisco de Macoris
END:VEVENT
BEGIN:VEVENT
UID:3269e6f822a4b93
DTSTAMP:20260421T040802Z
DTSTART;TZID=America/Santo_Domingo:20251129T193000
DTEND;TZID=America/Santo_Domingo:20251129T223000
SUMMARY:Gigantes Vs Toros
LOCATION:Estadio Francisco A. Micheli, La Romana
END:VEVENT
BEGIN:VEVENT
UID:3369e6f822a4b9b
DTSTAMP:20260421T040802Z
DTSTART;TZID=America/Santo_Domingo:20251130T170000
DTEND;TZID=America/Santo_Domingo:20251130T200000
SUMMARY:Aguilas Vs Toros
LOCATION:Estadio Francisco A. Micheli, La Romana
END:VEVENT
BEGIN:VEVENT
UID:3469e6f822a4ba2
DTSTAMP:20260421T040802Z
DTSTART;TZID=America/Santo_Domingo:20251202T193000
DTEND;TZID=America/Santo_Domingo:20251202T223000
SUMMARY:Toros Vs Estrellas
LOCATION:Estadio Tetelo Vargas, San Pedro de Macor&iacute;s
END:VEVENT
BEGIN:VEVENT
UID:3569e6f822a4ba8
DTSTAMP:20260421T040802Z
DTSTART;TZID=America/Santo_Domingo:20251203T193000
DTEND;TZID=America/Santo_Domingo:20251203T223000
SUMMARY:Escogido Vs Toros
LOCATION:Estadio Francisco A. Micheli, La Romana
END:VEVENT
BEGIN:VEVENT
UID:3669e6f822a4bae
DTSTAMP:20260421T040802Z
DTSTART;TZID=America/Santo_Domingo:20251205T193000
DTEND;TZID=America/Santo_Domingo:20251205T223000
SUMMARY:Toros Vs Estrellas
LOCATION:Estadio Tetelo Vargas, San Pedro de Macor&iacute;s
END:VEVENT
BEGIN:VEVENT
UID:3769e6f822a4bb4
DTSTAMP:20260421T040802Z
DTSTART;TZID=America/Santo_Domingo:20251206T193000
DTEND;TZID=America/Santo_Domingo:20251206T223000
SUMMARY:Estrellas Vs Toros
LOCATION:Estadio Francisco A. Micheli, La Romana
END:VEVENT
BEGIN:VEVENT
UID:3869e6f822a4bba
DTSTAMP:20260421T040802Z
DTSTART;TZID=America/Santo_Domingo:20251207T170000
DTEND;TZID=America/Santo_Domingo:20251207T200000
SUMMARY:Toros Vs Aguilas
LOCATION:Estadio Cibao, Santiago de los Caballeros
END:VEVENT
BEGIN:VEVENT
UID:3969e6f822a4bc0
DTSTAMP:20260421T040802Z
DTSTART;TZID=America/Santo_Domingo:20251209T193000
DTEND;TZID=America/Santo_Domingo:20251209T223000
SUMMARY:Estrellas Vs Toros
LOCATION:Estadio Francisco A. Micheli, La Romana
END:VEVENT
BEGIN:VEVENT
UID:4069e6f822a4bc6
DTSTAMP:20260421T040802Z
DTSTART;TZID=America/Santo_Domingo:20251210T193000
DTEND;TZID=America/Santo_Domingo:20251210T223000
SUMMARY:Toros Vs Aguilas
LOCATION:Estadio Cibao, Santiago de los Caballeros
END:VEVENT
BEGIN:VEVENT
UID:4169e6f822a4bcd
DTSTAMP:20260421T040802Z
DTSTART;TZID=America/Santo_Domingo:20251212T190000
DTEND;TZID=America/Santo_Domingo:20251212T220000
SUMMARY:Toros Vs Gigantes
LOCATION:Estadio Julian Javier, San Francisco de Macoris
END:VEVENT
BEGIN:VEVENT
UID:4269e6f822a4bd3
DTSTAMP:20260421T040802Z
DTSTART;TZID=America/Santo_Domingo:20251215T170000
DTEND;TZID=America/Santo_Domingo:20251215T200000
SUMMARY:Licey Vs Toros
LOCATION:Estadio Francisco A. Micheli, La Romana
END:VEVENT
BEGIN:VEVENT
UID:4369e6f822a4bd9
DTSTAMP:20260421T040802Z
DTSTART;TZID=America/Santo_Domingo:20251214T170000
DTEND;TZID=America/Santo_Domingo:20251214T200000
SUMMARY:Toros Vs Licey
LOCATION:Estadio Quisqueya, Santo Domingo
END:VEVENT
BEGIN:VEVENT
UID:4469e6f822a4bdf
DTSTAMP:20260421T040802Z
DTSTART;TZID=America/Santo_Domingo:20251216T190000
DTEND;TZID=America/Santo_Domingo:20251216T220000
SUMMARY:Toros Vs Gigantes
LOCATION:Estadio Julian Javier, San Francisco de Macoris
END:VEVENT
BEGIN:VEVENT
UID:4569e6f822a4be5
DTSTAMP:20260421T040802Z
DTSTART;TZID=America/Santo_Domingo:20251217T193000
DTEND;TZID=America/Santo_Domingo:20251217T223000
SUMMARY:Gigantes Vs Toros
LOCATION:Estadio Francisco A. Micheli, La Romana
END:VEVENT
BEGIN:VEVENT
UID:4669e6f822a4bec
DTSTAMP:20260421T040802Z
DTSTART;TZID=America/Santo_Domingo:20251219T191500
DTEND;TZID=America/Santo_Domingo:20251219T221500
SUMMARY:Toros Vs Escogido
LOCATION:Estadio Quisqueya, Santo Domingo
END:VEVENT
BEGIN:VEVENT
UID:4769e6f822a4bf2
DTSTAMP:20260421T040802Z
DTSTART;TZID=America/Santo_Domingo:20251220T170000
DTEND;TZID=America/Santo_Domingo:20251220T200000
SUMMARY:Toros Vs Licey
LOCATION:Estadio Quisqueya, Santo Domingo
END:VEVENT
BEGIN:VEVENT
UID:4869e6f822a4bf8
DTSTAMP:20260421T040802Z
DTSTART;TZID=America/Santo_Domingo:20251221T170000
DTEND;TZID=America/Santo_Domingo:20251221T200000
SUMMARY:Licey Vs Toros
LOCATION:Estadio Francisco A. Micheli, La Romana
END:VEVENT
BEGIN:VEVENT
UID:4969e6f822a4bff
DTSTAMP:20260421T040802Z
DTSTART;TZID=America/Santo_Domingo:20251222T193000
DTEND;TZID=America/Santo_Domingo:20251222T223000
SUMMARY:Aguilas Vs Toros
LOCATION:Estadio Francisco A. Micheli, La Romana
END:VEVENT
BEGIN:VEVENT
UID:5069e6f822a4c05
DTSTAMP:20260421T040802Z
DTSTART;TZID=America/Santo_Domingo:20251223T193000
DTEND;TZID=America/Santo_Domingo:20251223T223000
SUMMARY:Toros Vs Aguilas
LOCATION:Estadio Cibao, Santiago de los Caballeros
END:VEVENT
BEGIN:VEVENT
UID:169e6f822a4c0b
DTSTAMP:20260421T040802Z
DTSTART;TZID=America/Santo_Domingo:20251227T193000
DTEND;TZID=America/Santo_Domingo:20251227T223000
SUMMARY:Gigantes Vs Toros
LOCATION:Estadio Francisco A. Micheli, La Romana
END:VEVENT
BEGIN:VEVENT
UID:269e6f822a4c11
DTSTAMP:20260421T040802Z
DTSTART;TZID=America/Santo_Domingo:20251228T160000
DTEND;TZID=America/Santo_Domingo:20251228T190000
SUMMARY:Toros Vs Escogido
LOCATION:Estadio Quisqueya, Santo Domingo
END:VEVENT
BEGIN:VEVENT
UID:369e6f822a4c18
DTSTAMP:20260421T040802Z
DTSTART;TZID=America/Santo_Domingo:20251229T193000
DTEND;TZID=America/Santo_Domingo:20251229T223000
SUMMARY:Toros Vs Aguilas
LOCATION:Estadio Cibao, Santiago de los Caballeros
END:VEVENT
BEGIN:VEVENT
UID:469e6f822a4c1e
DTSTAMP:20260421T040802Z
DTSTART;TZID=America/Santo_Domingo:20251230T193000
DTEND;TZID=America/Santo_Domingo:20251230T223000
SUMMARY:Aguilas Vs Toros
LOCATION:Estadio Francisco A. Micheli, La Romana
END:VEVENT
BEGIN:VEVENT
UID:569e6f822a4c24
DTSTAMP:20260421T040802Z
DTSTART;TZID=America/Santo_Domingo:20260102T193000
DTEND;TZID=America/Santo_Domingo:20260102T223000
SUMMARY:Escogido Vs Toros
LOCATION:Estadio Francisco A. Micheli, La Romana
END:VEVENT
BEGIN:VEVENT
UID:669e6f822a4c2a
DTSTAMP:20260421T040802Z
DTSTART;TZID=America/Santo_Domingo:20260103T170000
DTEND;TZID=America/Santo_Domingo:20260103T200000
SUMMARY:Toros Vs Gigantes
LOCATION:Estadio Julian Javier, San Francisco de Macoris
END:VEVENT
BEGIN:VEVENT
UID:769e6f822a4c30
DTSTAMP:20260421T040802Z
DTSTART;TZID=America/Santo_Domingo:20260104T170000
DTEND;TZID=America/Santo_Domingo:20260104T200000
SUMMARY:Gigantes Vs Toros
LOCATION:Estadio Francisco A. Micheli, La Romana
END:VEVENT
BEGIN:VEVENT
UID:869e6f822a4c37
DTSTAMP:20260421T040802Z
DTSTART;TZID=America/Santo_Domingo:20260105T160000
DTEND;TZID=America/Santo_Domingo:20260105T190000
SUMMARY:Toros Vs Escogido
LOCATION:Estadio Quisqueya, Santo Domingo
END:VEVENT
BEGIN:VEVENT
UID:969e6f822a4c3d
DTSTAMP:20260421T040802Z
DTSTART;TZID=America/Santo_Domingo:20260107T193000
DTEND;TZID=America/Santo_Domingo:20260107T223000
SUMMARY:Toros Vs Aguilas
LOCATION:Estadio Cibao, Santiago de los Caballeros
END:VEVENT
BEGIN:VEVENT
UID:1069e6f822a4c43
DTSTAMP:20260421T040802Z
DTSTART;TZID=America/Santo_Domingo:20260108T193000
DTEND;TZID=America/Santo_Domingo:20260108T223000
SUMMARY:Gigantes Vs Toros
LOCATION:Estadio Francisco A. Micheli, La Romana
END:VEVENT
BEGIN:VEVENT
UID:1169e6f822a4c49
DTSTAMP:20260421T040802Z
DTSTART;TZID=America/Santo_Domingo:20260109T193000
DTEND;TZID=America/Santo_Domingo:20260109T223000
SUMMARY:Aguilas Vs Toros
LOCATION:Estadio Francisco A. Micheli, La Romana
END:VEVENT
BEGIN:VEVENT
UID:1269e6f822a4c50
DTSTAMP:20260421T040802Z
DTSTART;TZID=America/Santo_Domingo:20260110T170000
DTEND;TZID=America/Santo_Domingo:20260110T200000
SUMMARY:Toros Vs Gigantes
LOCATION:Estadio Julian Javier, San Francisco de Macoris
END:VEVENT
BEGIN:VEVENT
UID:1369e6f822a4c56
DTSTAMP:20260421T040802Z
DTSTART;TZID=America/Santo_Domingo:20260111T160000
DTEND;TZID=America/Santo_Domingo:20260111T190000
SUMMARY:Toros Vs Escogido
LOCATION:Estadio Quisqueya, Santo Domingo
END:VEVENT
BEGIN:VEVENT
UID:1469e6f822a4c5c
DTSTAMP:20260421T040802Z
DTSTART;TZID=America/Santo_Domingo:20260113T193000
DTEND;TZID=America/Santo_Domingo:20260113T223000
SUMMARY:Escogido Vs Toros
LOCATION:Estadio Francisco A. Micheli, La Romana
END:VEVENT
BEGIN:VEVENT
UID:1569e6f822a4c62
DTSTAMP:20260421T040802Z
DTSTART;TZID=America/Santo_Domingo:20260114T193000
DTEND;TZID=America/Santo_Domingo:20260114T223000
SUMMARY:Toros Vs Aguilas
LOCATION:Estadio Cibao, Santiago de los Caballeros
END:VEVENT
BEGIN:VEVENT
UID:1669e6f822a4c68
DTSTAMP:20260421T040802Z
DTSTART;TZID=America/Santo_Domingo:20260115T193000
DTEND;TZID=America/Santo_Domingo:20260115T223000
SUMMARY:Escogido Vs Toros
LOCATION:Estadio Francisco A. Micheli, La Romana
END:VEVENT
BEGIN:VEVENT
UID:1769e6f822a4c6e
DTSTAMP:20260421T040802Z
DTSTART;TZID=America/Santo_Domingo:20260116T193000
DTEND;TZID=America/Santo_Domingo:20260116T223000
SUMMARY:Aguilas Vs Toros
LOCATION:Estadio Francisco A. Micheli, La Romana
END:VEVENT
BEGIN:VEVENT
UID:1869e6f822a4c75
DTSTAMP:20260421T040802Z
DTSTART;TZID=America/Santo_Domingo:20260117T170000
DTEND;TZID=America/Santo_Domingo:20260117T200000
SUMMARY:Toros Vs Gigantes
LOCATION:Estadio Julian Javier, San Francisco de Macoris
END:VEVENT
BEGIN:VEVENT
UID:1969e6f822a4c7b
DTSTAMP:20260421T040802Z
DTSTART;TZID=America/Santo_Domingo:20260119T193000
DTEND;TZID=America/Santo_Domingo:20260119T223000
SUMMARY:Aguilas Vs Toros
LOCATION:Estadio Francisco A. Micheli, La Romana
END:VEVENT
BEGIN:VEVENT
UID:2069e6f822a4c81
DTSTAMP:20260421T040802Z
DTSTART;TZID=America/Santo_Domingo:20260121T191500
DTEND;TZID=America/Santo_Domingo:20260121T221500
SUMMARY:Toros Vs Escogido
LOCATION:Estadio Quisqueya, Santo Domingo
END:VEVENT
BEGIN:VEVENT
UID:2169e6f822a4c87
DTSTAMP:20260421T040802Z
DTSTART;TZID=America/Santo_Domingo:20260122T193000
DTEND;TZID=America/Santo_Domingo:20260122T223000
SUMMARY:Escogido Vs Toros
LOCATION:Estadio Francisco A. Micheli, La Romana
END:VEVENT
BEGIN:VEVENT
UID:2269e6f822a4c8d
DTSTAMP:20260421T040802Z
DTSTART;TZID=America/Santo_Domingo:20260125T191500
DTEND;TZID=America/Santo_Domingo:20260125T221500
SUMMARY:Toros Vs Escogido
LOCATION:Estadio Quisqueya, Santo Domingo
END:VEVENT
BEGIN:VEVENT
UID:2369e6f822a4c94
DTSTAMP:20260421T040802Z
DTSTART;TZID=America/Santo_Domingo:20260126T170000
DTEND;TZID=America/Santo_Domingo:20260126T200000
SUMMARY:Escogido Vs Toros
LOCATION:Estadio Francisco A. Micheli, La Romana
END:VEVENT
BEGIN:VEVENT
UID:2469e6f822a4ca0
DTSTAMP:20260421T040802Z
DTSTART;TZID=America/Santo_Domingo:20260127T191500
DTEND;TZID=America/Santo_Domingo:20260127T221500
SUMMARY:Toros Vs Escogido
LOCATION:Estadio Quisqueya, Santo Domingo
END:VEVENT
END:VCALENDAR
